BEGIN:VCALENDAR
PRODID://WordPress//Event-Post-V5.9.2//EN
VERSION:2.0
BEGIN:VTIMEZONE
TZID:Europe/Lisbon
BEGIN:DAYLIGHT
TZOFFSETFROM:+0100
TZOFFSETTO:+0100
DTSTART:19700329T020000
RRULE:FREQ=YEARLY;BYDAY=-1SU;BYMONTH=3
END:DAYLIGHT
BEGIN:STANDARD
TZOFFSETFROM:+0100
TZOFFSETTO:+0100
TZNAME:CET
DTSTART:19701025T030000
RRULE:FREQ=YEARLY;BYDAY=-1SU;BYMONTH=10
END:STANDARD
END:VTIMEZONE
BEGIN:VEVENT
SUMMARY:Curso de Secretariado Forense
UID:https://crlisboa.org/wp/2026/04/curso-de-secretariado-forense/
LOCATION:
DTSTAMP:20260507T100000
DTSTART;TZID=Europe/Lisbon:20260507T100000
DTEND;TZID=Europe/Lisbon:20260507T100000
DESCRIPTION:Curso de Secretariado Forense
Regime presencial
7, 11, 13, 15, 18, 20,22, 27, 29 de maio e 1 de junho  de 2026 das 10h00
das 13h00
Local | Conselho Regional de Lisboa
END:VEVENT
END:VCALENDAR