BEGIN:VCALENDAR
PRODID://WordPress//Event-Post-V5.9.2//EN
VERSION:2.0
BEGIN:VTIMEZONE
TZID:Europe/Lisbon
BEGIN:DAYLIGHT
TZOFFSETFROM:+0100
TZOFFSETTO:+0100
DTSTART:19700329T020000
RRULE:FREQ=YEARLY;BYDAY=-1SU;BYMONTH=3
END:DAYLIGHT
BEGIN:STANDARD
TZOFFSETFROM:+0100
TZOFFSETTO:+0100
TZNAME:CET
DTSTART:19701025T030000
RRULE:FREQ=YEARLY;BYDAY=-1SU;BYMONTH=10
END:STANDARD
END:VTIMEZONE
BEGIN:VEVENT
SUMMARY:SAVE THE DATE |  Corrida dos 100 Anos
UID:https://crlisboa.org/wp/2026/04/save-the-date-corrida-dos-100-anos/
LOCATION:
DTSTAMP:20260920
DTSTART;TZID=Europe/Lisbon:20260920
DTEND;TZID=Europe/Lisbon:20260920
DESCRIPTION:Integrado nas comemorações do centenário da Ordem dos Advogados, o
Conselho Regional de Lisboa organiza no dia 20 de setembro de 2026 a
Corrida dos 100 anos. 

END:VEVENT
END:VCALENDAR